BEGIN:VCALENDAR
VERSION:2.0
PRODID:-//CiviCRM//NONSGML CiviEvent iCal//EN
X-WR-TIMEZONE:Europe/Paris
METHOD:PUBLISH
BEGIN:VTIMEZONE
TZID:Europe/Paris
BEGIN:DAYLIGHT
TZOFFSETFROM:+0200
TZOFFSETTO:+0200
TZNAME:CEST
DTSTART:20260428T090000
END:DAYLIGHT
END:VTIMEZONE
BEGIN:VEVENT
UID:CiviCRM_EventID_969_65f018fada5b3ff015de610f9b614d49@smc-cse.fr
SUMMARY:TEST Formation économique des membres du CSE
X-ALT-DESC;FMTTYPE=text/html:<!DOCTYPE HTML PUBLIC
  "-//W3C//DTD HTML 3.2//EN"><html><body><h3>Les po
 ints forts</h3>\n \n <ul>\n 	<li>Assistance téléph
 onique jusqu’à 3 mois après le stage.</li>\n 	<li>
 Tout ce qu’il faut connaître pour réussir votre ma
 ndat.</li>\n 	<li>Présentation visuelle facilitant
  la compréhension.</li>\n 	<li>Langage clair et ac
 cessible.</li>\n </ul>\n \n <h3>Public</h3>\n \n <
 ul>\n 	<li>Élu•e•s titulaires du CSE</li>\n </ul>\
 n \n <h3>La formation en bref</h3>\n \n <ul>\n 	<l
 i>Rôle et fonctionnement du CSE</li>\n 	<li>Attrib
 utions et mandats</li>\n </ul>\n \n <p>Cette forma
 tion est disponible sous <strong>différents format
 s :</strong></p>\n \n <ul>\n 	<li><strong>1 jour</
 strong> : En une journée\, vous connaîtrez les bas
 es du CSE ainsi que vos missions.</li>\n 	<li><str
 ong>2 jours</strong> : Formation la plus <strong>p
 opulaire</strong> : permet de concilier votre agen
 da serré avec les fondamentaux du CSE et vos moyen
 s d’action.</li>\n 	<li><strong>3 jours</strong> :
  Cette formation vous laissera le temps d’assimile
 r tout ce que vous allez apprendre. Au final\, vou
 s pourrez exercer pleinement vos responsabilités.<
 /li>\n 	<li><strong>4 jours</strong> : Cette forma
 tion plus poussée vous donnera les clés pour assim
 iler les fondamentaux du CSE et vos moyens d’actio
 n et comprendre les comptes de l’entreprise.</li>\
 n 	<li><strong>5 jours </strong>: Formation la plu
 s complète : elle permet aussi de comprendre la si
 tuation économique et financière de l’entreprise e
 t ses indicateurs de gestion. Un expert-comptable 
 interviendra lors de cette formation.</li>\n </ul>
 </body></html>
DESCRIPTION:Les points forts\n \n \n \n 	Assistance téléphoniq
 ue jusqu’à 3 mois après le stage.\n 	Tout ce qu’il
  faut connaître pour réussir votre mandat.\n 	Prés
 entation visuelle facilitant la compréhension.\n 	
 Langage clair et accessible.\n \n \n Public\n \n \
 n \n 	Élu•e•s titulaires du CSE\n \n \n La formati
 on en bref\n \n \n \n 	Rôle et fonctionnement du C
 SE\n 	Attributions et mandats\n \n \n Cette format
 ion est disponible sous différents formats :\n \n 
 \n \n \n 	1 jour : En une journée\, vous connaître
 z les bases du CSE ainsi que vos missions.\n 	2 jo
 urs : Formation la plus populaire : permet de conc
 ilier votre agenda serré avec les fondamentaux du 
 CSE et vos moyens d’action.\n 	3 jours : Cette for
 mation vous laissera le temps d’assimiler tout ce 
 que vous allez apprendre. Au final\, vous pourrez 
 exercer pleinement vos responsabilités.\n 	4 jours
  : Cette formation plus poussée vous donnera les c
 lés pour assimiler les fondamentaux du CSE et vos 
 moyens d’action et comprendre les comptes de l’ent
 reprise.\n 	5 jours : Formation la plus complète :
  elle permet aussi de comprendre la situation écon
 omique et financière de l’entreprise et ses indica
 teurs de gestion. Un expert-comptable interviendra
  lors de cette formation.\n 
CATEGORIES:Formation
CALSCALE:GREGORIAN
DTSTAMP;TZID=Europe/Paris:20260428T090000
DTSTART;TZID=Europe/Paris:20260428T090000
DTEND;TZID=Europe/Paris:20260430T170000
LOCATION:Teste\n 
URL:https://smc-cse.fr/civicrm/event/info/?reset=1&id=969
END:VEVENT
END:VCALENDAR
