BEGIN:VCALENDAR
VERSION:2.0
PRODID:-//CiviCRM//NONSGML CiviEvent iCal//EN
X-WR-TIMEZONE:Europe/Paris
METHOD:PUBLISH
BEGIN:VTIMEZONE
TZID:Europe/Paris
BEGIN:DAYLIGHT
TZOFFSETFROM:+0200
TZOFFSETTO:+0200
TZNAME:CEST
DTSTART:20260423T090000
END:DAYLIGHT
END:VTIMEZONE
BEGIN:VEVENT
UID:CiviCRM_EventID_965_65f018fada5b3ff015de610f9b614d49@smc-cse.fr
SUMMARY:TEST Formation initiale des membres du CSE et de l
 a CSSCT-missions santé\, sécurité et conditions de
  travail
X-ALT-DESC;FMTTYPE=text/html:<!DOCTYPE HTML PUBLIC
  "-//W3C//DTD HTML 3.2//EN"><html><body><h3>Les po
 ints forts</h3>\n \n <ul>\n 	<li>Mises en situatio
 n afin d’identifier les points forts et les points
  à améliorer</li>\n 	<li>Études de cas et analyses
  sur des événements</li>\n 	<li>QCM à chaque fin d
 ’unité d’enseignement</li>\n 	<li>Assistance télép
 honique pendant 3 mois après la formation</li>\n <
 /ul>\n \n <h3>Public</h3>\n \n <ul>\n 	<li>Cette f
 ormation s’adresse aux nouveaux élus CSE et aux me
 mbres de la CSSCT</li>\n </ul>\n \n <h3>La formati
 on en bref</h3>\n \n <ul>\n 	<li>Attributions du C
 SE en SSCT</li>\n 	<li>Les moyens du CSE en SSCT</
 li>\n 	<li>L’inaptitude\, les accidents du travail
  et les maladies professionnelles</li>\n 	<li>La p
 révention</li>\n 	<li>Les différents risques</li>\
 n 	<li>Les obligations documentaires</li>\n 	<li>L
 es inspections du CSE</li>\n 	<li>Les pénibilités<
 /li>\n 	<li>…</li>\n </ul></body></html>
DESCRIPTION:Les points forts\n \n \n \n 	Mises en situation af
 in d’identifier les points forts et les points à a
 méliorer\n 	Études de cas et analyses sur des évén
 ements\n 	QCM à chaque fin d’unité d’enseignement\
 n 	Assistance téléphonique pendant 3 mois après la
  formation\n \n \n Public\n \n \n \n 	Cette format
 ion s’adresse aux nouveaux élus CSE et aux membres
  de la CSSCT\n \n \n La formation en bref\n \n \n 
 \n 	Attributions du CSE en SSCT\n 	Les moyens du C
 SE en SSCT\n 	L’inaptitude\, les accidents du trav
 ail et les maladies professionnelles\n 	La prévent
 ion\n 	Les différents risques\n 	Les obligations d
 ocumentaires\n 	Les inspections du CSE\n 	Les péni
 bilités\n 	…\n 
CATEGORIES:Formation
CALSCALE:GREGORIAN
DTSTAMP;TZID=Europe/Paris:20260423T090000
DTSTART;TZID=Europe/Paris:20260423T090000
DTEND;TZID=Europe/Paris:20260429T170900
LOCATION:Testc\n 75014 Paris\n 
URL:https://smc-cse.fr/civicrm/event/info/?reset=1&id=965
END:VEVENT
END:VCALENDAR
