BEGIN:VCALENDAR
VERSION:2.0
PRODID:-//CiviCRM//NONSGML CiviEvent iCal//EN
X-WR-TIMEZONE:Europe/Paris
METHOD:PUBLISH
BEGIN:VTIMEZONE
TZID:Europe/Paris
BEGIN:DAYLIGHT
TZOFFSETFROM:+0200
TZOFFSETTO:+0200
TZNAME:CEST
DTSTART:20260527T090000
END:DAYLIGHT
END:VTIMEZONE
BEGIN:VEVENT
UID:CiviCRM_EventID_950_65f018fada5b3ff015de610f9b614d49@smc-cse.fr
SUMMARY:Consultation obligatoire du CSE : Situation économ
 ique et financière
CATEGORIES:Petit déjeuner
CALSCALE:GREGORIAN
DTSTAMP;TZID=Europe/Paris:20260527T090000
DTSTART;TZID=Europe/Paris:20260527T090000
DTEND;TZID=Europe/Paris:20260527T100000
LOCATION:en visio sur Microsoft Teams\n 
URL:https://smc-cse.fr/civicrm/event/info/?reset=1&id=950
END:VEVENT
END:VCALENDAR
