BEGIN:VCALENDAR
VERSION:2.0
PRODID:-//CiviCRM//NONSGML CiviEvent iCal//EN
X-WR-TIMEZONE:Europe/Paris
METHOD:PUBLISH
BEGIN:VTIMEZONE
TZID:Europe/Paris
BEGIN:DAYLIGHT
TZOFFSETFROM:+0200
TZOFFSETTO:+0200
TZNAME:CEST
DTSTART:20300903T100000
END:DAYLIGHT
END:VTIMEZONE
BEGIN:VEVENT
UID:CiviCRM_EventID_111_65f018fada5b3ff015de610f9b614d49@smc-cse.fr
SUMMARY:Formation membres du CSE missions santé\, sécurité
  et conditions de travail (renouvellement de manda
 t)
CATEGORIES:Essentielle
CALSCALE:GREGORIAN
DTSTAMP;TZID=Europe/Paris:20300903T100000
DTSTART;TZID=Europe/Paris:20300903T100000
DTEND;TZID=Europe/Paris:20300903T170000
URL:https://smc-cse.fr/civicrm/event/info/?reset=1&id=111
END:VEVENT
END:VCALENDAR
